BEGIN:VCALENDAR
VERSION:2.0
PRODID:-//Music of the Unsung America - ECPv6.1.3//NONSGML v1.0//EN
CALSCALE:GREGORIAN
METHOD:PUBLISH
X-WR-CALNAME:Music of the Unsung America
X-ORIGINAL-URL:https://www.americaunsung.org
X-WR-CALDESC:Events for Music of the Unsung America
REFRESH-INTERVAL;VALUE=DURATION:PT1H
X-Robots-Tag:noindex
X-PUBLISHED-TTL:PT1H
BEGIN:VTIMEZONE
TZID:UTC
BEGIN:STANDARD
TZOFFSETFROM:+0000
TZOFFSETTO:+0000
TZNAME:UTC
DTSTART:20210101T000000
END:STANDARD
END:VTIMEZONE
BEGIN:VEVENT
DTSTART;TZID=UTC:20210424T190000
DTEND;TZID=UTC:20210424T210000
DTSTAMP:20260421T024739
CREATED:20210405T010918Z
LAST-MODIFIED:20210519T202056Z
UID:2075-1619290800-1619298000@www.americaunsung.org
SUMMARY:One Night\, Two Premieres
DESCRIPTION:A new series featuring Black artists of history\, Music of the Unsung America\, season continues its live and virtual series with a concert featuring the premieres of Joseph Jones’ Symphony for String Orchestra\, Op. 47a\, No. 2\, and Margaret bonds’ cantata\, Simon Bore The Cross\, revealing and exploring the deep roots and extraordinary range of music created by descendants of Africa. Founded by Portia Dunkley\, Music of the Unsung features a wide spectrum of Black artists in a series of performances and events for and from the South Florida community\, including works by Joseph Jones and Dwight Banks. Working with the American Composers Forum (ACF) – as part of their ACF I connect program and support from the John S. and James L. Knight Foundation – Music of the Unsung launched a call for scores to identify Jones and Banks for this opportunity. \nReserve your ticket here
URL:https://www.americaunsung.org/event/one-night-two-premieres/
LOCATION:Historic Saint Agnes Episcopal Church\, 1750 Northwest 3rd Avenue\, Miami\,Fl\, 33136\, United States
CATEGORIES:All Shows,Past Events
ATTACH;FMTTYPE=image/png:https://www.americaunsung.org/wp-content/uploads/2021/04/image0.png
END:VEVENT
BEGIN:VEVENT
DTSTART;TZID=UTC:20210618T190000
DTEND;TZID=UTC:20210618T213000
DTSTAMP:20260421T024739
CREATED:20210519T200852Z
LAST-MODIFIED:20211210T055412Z
UID:2223-1624042800-1624051800@www.americaunsung.org
SUMMARY:From Renaissance to Resistance
DESCRIPTION:A new series featuring Black artists of history and today\, Music of the Unsung America’s season continues its live and virtual series with a concert featuring a classical and jazz fusion program of repertoire with the feature piece being\, Tre. The first part of the performance will have music by Duke Ellington: Sacred Concert\, Come Sunday\, as well as a string arrangement of Billie Holiday’s Strange Fruit. \nReserve your ticket here \n 
URL:https://www.americaunsung.org/event/from-renaissance-to-resistance/
LOCATION:Hampton House
CATEGORIES:All Shows,Past Events
ATTACH;FMTTYPE=image/jpeg:https://www.americaunsung.org/wp-content/uploads/2021/05/NEW-CANON-CHAMBER-COLLECTIVE-1.jpg
END:VEVENT
BEGIN:VEVENT
DTSTART;TZID=UTC:20211211T190000
DTEND;TZID=UTC:20211211T210000
DTSTAMP:20260421T024739
CREATED:20211210T054623Z
LAST-MODIFIED:20211210T055336Z
UID:2290-1639249200-1639256400@www.americaunsung.org
SUMMARY:Winter Finale and Fundraiser
DESCRIPTION:Join the The New Canon Chamber Collective as we finish our inaugural “Music of The Unsung America” season with a concert under the stars featuring the music of Margaret Bonds and South Florida Black composer\, Michael Dudley. \nAdvance tickets are $20 online and $25 at the door \nThis performance is made possible with funding from the John S. and James L Knight Foundation and ACF| Connect \nAnd partnership with the African Heritage Cultural Arts Center \n\n\nDue to Covid-19 restrictions\, Seating is limited.
URL:https://www.americaunsung.org/event/winter-finale-and-fundraiser/
LOCATION:African Heritage Cultural Arts Center\, 6161 NW 22nd Ave\, Miami\, FL\, 33142\, United States
CATEGORIES:All Shows,Shows
ATTACH;FMTTYPE=image/png:https://www.americaunsung.org/wp-content/uploads/2021/12/winter-concert-nccc.png
END:VEVENT
END:VCALENDAR