BEGIN:VCALENDAR
VERSION:2.0
PRODID:-//Music of the Unsung America - ECPv6.1.3//NONSGML v1.0//EN
CALSCALE:GREGORIAN
METHOD:PUBLISH
X-WR-CALNAME:Music of the Unsung America
X-ORIGINAL-URL:https://www.americaunsung.org
X-WR-CALDESC:Events for Music of the Unsung America
REFRESH-INTERVAL;VALUE=DURATION:PT1H
X-Robots-Tag:noindex
X-PUBLISHED-TTL:PT1H
BEGIN:VTIMEZONE
TZID:UTC
BEGIN:STANDARD
TZOFFSETFROM:+0000
TZOFFSETTO:+0000
TZNAME:UTC
DTSTART:20210101T000000
END:STANDARD
END:VTIMEZONE
BEGIN:VEVENT
DTSTART;TZID=UTC:20210213T190000
DTEND;TZID=UTC:20210213T210000
DTSTAMP:20260420T193723
CREATED:20201003T184311Z
LAST-MODIFIED:20210519T202227Z
UID:1734-1613242800-1613250000@www.americaunsung.org
SUMMARY:Sacred Fire
DESCRIPTION:Join us at the Sandrell Rivers Theater on February 13 at 7pm for a night that explores a range of Western classical music by composers of African descent by merging engaging visual elements and sound. Sacred Fire is a chronological musical journey from Afro-British to Afro-Brazilian music\, narrated with poetic prose and accompanied with elements of movement (ballet) and visual art. The program will culminate in an audience talk-back with the artists and Fantasy Theater Factory CEO/Executive Artistic Director Larry Fields.
URL:https://www.americaunsung.org/event/a-music-moment-for-new-voices-part-1/
LOCATION:Sandrell Rivers Theater
CATEGORIES:All Shows,Past Events
ATTACH;FMTTYPE=image/jpeg:https://www.americaunsung.org/wp-content/uploads/2020/10/Sacred-Fire1024_11-e1617679190929.jpg
END:VEVENT
END:VCALENDAR